BEGIN:VCALENDAR
VERSION:2.0
PRODID:-//wp-events-plugin.com//6.6.4.4//EN
TZID:Europe/Andorra
X-WR-TIMEZONE:Europe/Andorra
BEGIN:VEVENT
UID:256@castellersdelprat.cat
DTSTART;TZID=Europe/Andorra:20270623T200000
DTEND;TZID=Europe/Andorra:20270623T235900
DTSTAMP:20240826T082048Z
URL:https://www.castellersdelprat.cat/agenda/revetlla-de-sant-joan-2027-06
 -23/
SUMMARY:Revetlla de Sant Joan
DESCRIPTION:Revetlla de Sant Joan. &lt\;br&gt\; Més informació: https://w
 ww.castellersdelprat.cat/agenda/revetlla-de-sant-joan-2027-06-23/
CATEGORIES:Festius
END:VEVENT
BEGIN:VTIMEZONE
TZID:Europe/Andorra
X-LIC-LOCATION:Europe/Andorra
BEGIN:DAYLIGHT
DTSTART:20270328T030000
TZOFFSETFROM:+0100
TZOFFSETTO:+0200
TZNAME:CEST
END:DAYLIGHT
END:VTIMEZONE
END:VCALENDAR